BEGIN:VCALENDAR
VERSION:2.0
PRODID:-//hacksw/handcal//NONSGML v1.0//EN
CALSCALE:GREGORIAN
BEGIN:VEVENT
UID:248
DTSTAMP:20260421T081547Z
DESCRIPTION:Música
DTSTART:20250920T180000Z
DTEND:20250920T190000Z
LOCATION:Santo Domingo de Silos
SUMMARY:"Ad Libitum" (Santo Domingo de Silos)
URL;VALUE=URI:https://foroburgos.com/calendario/ad-libitum-santo-domingo-de-silos.248/
PARTICIPATION:NEEDS-ACTION
END:VEVENT
END:VCALENDAR