BEGIN:VCALENDAR
VERSION:2.0
PRODID:-//hacksw/handcal//NONSGML v1.0//EN
CALSCALE:GREGORIAN
BEGIN:VEVENT
UID:541
DTSTAMP:20260421T082746Z
DESCRIPTION:ACB
DTSTART:20251227T170000Z
DTEND:20251227T190000Z
LOCATION:Fernando Buesa Arena
SUMMARY:Baskonia 89 - 77 San Pablo Burgos (12ª jornada)
URL;VALUE=URI:https://foroburgos.com/calendario/baskonia-89-77-san-pablo-burgos-12a-jornada.541/
PARTICIPATION:NEEDS-ACTION
END:VEVENT
END:VCALENDAR