BEGIN:VCALENDAR
VERSION:2.0
PRODID:-//hacksw/handcal//NONSGML v1.0//EN
CALSCALE:GREGORIAN
BEGIN:VEVENT
UID:459
DTSTAMP:20260421T082429Z
DESCRIPTION:LaLiga2
DTSTART:20251208T151500Z
DTEND:20251208T171500Z
LOCATION:Estadio El Plantío
SUMMARY:Burgos CF 0 - 1 Albacete (17ª jornada)
URL;VALUE=URI:https://foroburgos.com/calendario/burgos-cf-0-1-albacete-17a-jornada.459/
PARTICIPATION:NEEDS-ACTION
END:VEVENT
END:VCALENDAR