BEGIN:VCALENDAR
VERSION:2.0
PRODID:-//hacksw/handcal//NONSGML v1.0//EN
CALSCALE:GREGORIAN
BEGIN:VEVENT
UID:687
DTSTAMP:20260422T090124Z
DESCRIPTION:LaLiga2
DTSTART:20260425T163000Z
DTEND:20260425T183000Z
LOCATION:Estadio El Plantío
SUMMARY:Burgos CF -  Deportivo La Coruña (37ª jornada)
URL;VALUE=URI:https://foroburgos.com/calendario/burgos-cf-deportivo-la-coruna-37a-jornada.687/
PARTICIPATION:NEEDS-ACTION
END:VEVENT
END:VCALENDAR