BEGIN:VCALENDAR
VERSION:2.0
PRODID:-//hacksw/handcal//NONSGML v1.0//EN
CALSCALE:GREGORIAN
BEGIN:VEVENT
UID:679
DTSTAMP:20260422T083419Z
DESCRIPTION:[URL='https://bacantix.com/Entradas/WebForms/Forms/Venta.aspx?id=TeleEntradasCB&codigo=000080007000614000823'][B]Entradas[/B][/URL]

[B]De lunes a jueves[/B]

La Fundación Caja de Burgos presenta una nueva edición del proyecto educativo Cantania. Alumnos de Educación Primaria de 27 centros educativos burgaleses se suben al escenario para interpretar\, acompañados de una orquesta y solistas profesionales\, El último reloj.
DTSTART;VALUE=DATE:20260503
LOCATION:Fórum Evolución Burgos
SUMMARY:Cantania (Burgos)
URL;VALUE=URI:https://foroburgos.com/calendario/cantania-burgos.679/
PARTICIPATION:NEEDS-ACTION
END:VEVENT
END:VCALENDAR