BEGIN:VCALENDAR
VERSION:2.0
PRODID:-//hacksw/handcal//NONSGML v1.0//EN
CALSCALE:GREGORIAN
BEGIN:VEVENT
UID:693
DTSTAMP:20260422T085310Z
DESCRIPTION:[URL='https://inscripciones.runvasport.es/inscripcion/burgos-carrera-y-marcha-dia-de-castilla-y-leon-1/?lang=es'][B]Inscripción[/B][/URL]
DTSTART:20260423T090000Z
DTEND:20260423T120000Z
LOCATION:Burgos
SUMMARY:Carrerra y Marcha Solidaria
URL;VALUE=URI:https://foroburgos.com/calendario/carrerra-y-marcha-solidaria.693/
PARTICIPATION:NEEDS-ACTION
END:VEVENT
END:VCALENDAR