BEGIN:VCALENDAR
VERSION:2.0
PRODID:-//hacksw/handcal//NONSGML v1.0//EN
CALSCALE:GREGORIAN
BEGIN:VEVENT
UID:555
DTSTAMP:20260421T082229Z
DESCRIPTION:LaLiga2
DTSTART:20260110T130000Z
DTEND:20260110T150000Z
LOCATION:Estadio Municipal de Anduva
SUMMARY:CD Mirandés 2 - 2 Almería (21ª jornada)
URL;VALUE=URI:https://foroburgos.com/calendario/cd-mirandes-2-2-almeria-21a-jornada.555/
PARTICIPATION:NEEDS-ACTION
END:VEVENT
END:VCALENDAR