BEGIN:VCALENDAR
VERSION:2.0
PRODID:-//hacksw/handcal//NONSGML v1.0//EN
CALSCALE:GREGORIAN
BEGIN:VEVENT
UID:688
DTSTAMP:20260422T085820Z
DESCRIPTION:LaLiga2
DTSTART:20260426T141500Z
DTEND:20260426T161500Z
LOCATION:Estadio Municipal de Anduva
SUMMARY:CD Mirandés - Cultural Leonesa (37ª jornada)
URL;VALUE=URI:https://foroburgos.com/calendario/cd-mirandes-cultural-leonesa-37a-jornada.688/
PARTICIPATION:NEEDS-ACTION
END:VEVENT
END:VCALENDAR