BEGIN:VCALENDAR
VERSION:2.0
PRODID:-//hacksw/handcal//NONSGML v1.0//EN
CALSCALE:GREGORIAN
BEGIN:VEVENT
UID:680
DTSTAMP:20260422T083419Z
DESCRIPTION:[URL='https://bacantix.com/Entradas/WebForms/Forms/Evento.aspx?id=TeleEntradasCB&Recinto=000024&Sala=036&Espectaculo=001112&TituloEspectaculo=Cenicienta%20el%20musical&ActivePage=0'][B]Entradas[/B][/URL]

El musical. Un espectáculo lleno de humor\, emoción\, segundas oportunidades\, búsqueda de la libertad y magia escénica donde los sueños sí se hacen realidad... ¡Pero con ritmo y risas!
DTSTART:20260426T103000Z
DTEND:20260426T130000Z
LOCATION:Cultural Caja de Burgos
SUMMARY:Cenicienta (Burgos)
URL;VALUE=URI:https://foroburgos.com/calendario/cenicienta-burgos.680/
PARTICIPATION:NEEDS-ACTION
END:VEVENT
END:VCALENDAR