BEGIN:VCALENDAR
VERSION:2.0
PRODID:-//hacksw/handcal//NONSGML v1.0//EN
CALSCALE:GREGORIAN
BEGIN:VEVENT
UID:501
DTSTAMP:20260421T120444Z
DESCRIPTION:Show
DTSTART:20251213T180000Z
DTEND:20251213T193000Z
LOCATION:Roa de Duero
SUMMARY:Con la Boca Abierta (Roa de Duero)
URL;VALUE=URI:https://foroburgos.com/calendario/con-la-boca-abierta-roa-de-duero.501/
PARTICIPATION:NEEDS-ACTION
END:VEVENT
END:VCALENDAR