BEGIN:VCALENDAR
VERSION:2.0
PRODID:-//hacksw/handcal//NONSGML v1.0//EN
CALSCALE:GREGORIAN
BEGIN:VEVENT
UID:700
DTSTAMP:20260424T111346Z
DESCRIPTION:Entrada gratuita hasta completar aforo. Ciclo musical "En Clave Rural: Música y Patrimonio" de la Diputación de Burgos.
DTSTART:20260425T170000Z
DTEND:20260425T183000Z
LOCATION:Pedrosa de Duero
SUMMARY:Cuarteto Ribera (Pedrosa de Duero)
URL;VALUE=URI:https://foroburgos.com/calendario/cuarteto-ribera-pedrosa-de-duero.700/
PARTICIPATION:NEEDS-ACTION
END:VEVENT
END:VCALENDAR