BEGIN:VCALENDAR
VERSION:2.0
PRODID:-//hacksw/handcal//NONSGML v1.0//EN
CALSCALE:GREGORIAN
BEGIN:VEVENT
UID:702
DTSTAMP:20260424T110238Z
DESCRIPTION:Espectáculo familiar para niños a partir de 4 años. Biblioteca Valle de Tobalina
DTSTART:20260424T153000Z
DTEND:20260424T170000Z
LOCATION:Valle de Tobalina
SUMMARY:Cuentos Fritos de la Luna en Escabeche (Valle de Tobalina)
URL;VALUE=URI:https://foroburgos.com/calendario/cuentos-fritos-de-la-luna-en-escabeche-valle-de-tobalina.702/
PARTICIPATION:NEEDS-ACTION
END:VEVENT
END:VCALENDAR