BEGIN:VCALENDAR
VERSION:2.0
PRODID:-//hacksw/handcal//NONSGML v1.0//EN
CALSCALE:GREGORIAN
BEGIN:VEVENT
UID:701
DTSTAMP:20260424T110807Z
DESCRIPTION:[URL='https://entradas.qr4events.com/event/zumbidos-y-temazos'][B]Entradas[/B][/URL]
DTSTART:20260430T210000Z
DTEND:20260501T020000Z
LOCATION:La Ciudadela Burgos
SUMMARY:David Zélmar (Burgos)
URL;VALUE=URI:https://foroburgos.com/calendario/david-zelmar-burgos.701/
PARTICIPATION:NEEDS-ACTION
END:VEVENT
END:VCALENDAR