BEGIN:VCALENDAR
VERSION:2.0
PRODID:-//hacksw/handcal//NONSGML v1.0//EN
CALSCALE:GREGORIAN
BEGIN:VEVENT
UID:705
DTSTAMP:20260424T111619Z
DESCRIPTION:Teatro Infantil
DTSTART:20260425T180000Z
DTEND:20260425T193000Z
LOCATION:Villasana de Mena
SUMMARY:El Maleficio del Brujo (Villasana de Mena)
URL;VALUE=URI:https://foroburgos.com/calendario/el-maleficio-del-brujo-villasana-de-mena.705/
PARTICIPATION:NEEDS-ACTION
END:VEVENT
END:VCALENDAR