BEGIN:VCALENDAR
VERSION:2.0
PRODID:-//hacksw/handcal//NONSGML v1.0//EN
CALSCALE:GREGORIAN
BEGIN:VEVENT
UID:400
DTSTAMP:20260419T125546Z
DESCRIPTION:Concierto de música
DTSTART:20251017T170000Z
DTEND:20251017T183000Z
LOCATION:Centro de Arte Caja de Burgos CAB
SUMMARY:Fajardo (Burgos)
URL;VALUE=URI:https://foroburgos.com/calendario/fajardo-burgos.400/
PARTICIPATION:NEEDS-ACTION
END:VEVENT
END:VCALENDAR