BEGIN:VCALENDAR
VERSION:2.0
PRODID:-//hacksw/handcal//NONSGML v1.0//EN
CALSCALE:GREGORIAN
BEGIN:VEVENT
UID:703
DTSTAMP:20260424T105847Z
DESCRIPTION:Feria
DTSTART:20260425T083000Z
DTEND:20260425T140000Z
LOCATION:Soncillo
SUMMARY:Feria de San Marcos (Soncillo)
URL;VALUE=URI:https://foroburgos.com/calendario/feria-de-san-marcos-soncillo.703/
PARTICIPATION:NEEDS-ACTION
END:VEVENT
END:VCALENDAR