BEGIN:VCALENDAR
VERSION:2.0
PRODID:-//hacksw/handcal//NONSGML v1.0//EN
CALSCALE:GREGORIAN
BEGIN:VEVENT
UID:353
DTSTAMP:20260423T081227Z
DESCRIPTION:Fiestas locales
DTSTART;VALUE=DATE:20250930
LOCATION:Buniel
SUMMARY:Fiestas de Buniel
URL;VALUE=URI:https://foroburgos.com/calendario/fiestas-de-buniel.353/
PARTICIPATION:NEEDS-ACTION
END:VEVENT
END:VCALENDAR