BEGIN:VCALENDAR
VERSION:2.0
PRODID:-//hacksw/handcal//NONSGML v1.0//EN
CALSCALE:GREGORIAN
BEGIN:VEVENT
UID:51
DTSTAMP:20260421T081433Z
DESCRIPTION:Fiestas locales
DTSTART;VALUE=DATE:20250722
LOCATION:Cebrecos
SUMMARY:Fiestas de Cebrecos
URL;VALUE=URI:https://foroburgos.com/calendario/fiestas-de-cebrecos.51/
PARTICIPATION:NEEDS-ACTION
END:VEVENT
END:VCALENDAR