BEGIN:VCALENDAR
VERSION:2.0
PRODID:-//hacksw/handcal//NONSGML v1.0//EN
CALSCALE:GREGORIAN
BEGIN:VEVENT
UID:697
DTSTAMP:20260422T083510Z
DESCRIPTION:Fiestas locales
DTSTART;VALUE=DATE:20260422
LOCATION:Grijalba
SUMMARY:Fiestas de Grijalba
URL;VALUE=URI:https://foroburgos.com/calendario/fiestas-de-grijalba.697/
PARTICIPATION:NEEDS-ACTION
END:VEVENT
END:VCALENDAR