BEGIN:VCALENDAR
VERSION:2.0
PRODID:-//hacksw/handcal//NONSGML v1.0//EN
CALSCALE:GREGORIAN
BEGIN:VEVENT
UID:377
DTSTAMP:20260421T081537Z
DESCRIPTION:Fiestas locales
DTSTART;VALUE=DATE:20251002
LOCATION:Hormaza
SUMMARY:Fiestas de Hormaza
URL;VALUE=URI:https://foroburgos.com/calendario/fiestas-de-hormaza.377/
PARTICIPATION:NEEDS-ACTION
END:VEVENT
END:VCALENDAR