BEGIN:VCALENDAR
VERSION:2.0
PRODID:-//hacksw/handcal//NONSGML v1.0//EN
CALSCALE:GREGORIAN
BEGIN:VEVENT
UID:199
DTSTAMP:20260421T081536Z
DESCRIPTION:Fiestas locales
DTSTART;VALUE=DATE:20250904
LOCATION:Valle de Tobalina
SUMMARY:Fiestas de Valle de Tobalina
URL;VALUE=URI:https://foroburgos.com/calendario/fiestas-de-valle-de-tobalina.199/
PARTICIPATION:NEEDS-ACTION
END:VEVENT
END:VCALENDAR