BEGIN:VCALENDAR
VERSION:2.0
PRODID:-//hacksw/handcal//NONSGML v1.0//EN
CALSCALE:GREGORIAN
BEGIN:VEVENT
UID:696
DTSTAMP:20260422T085527Z
DESCRIPTION:Fiestas locales
DTSTART;VALUE=DATE:20260421
LOCATION:Villanueva de Argaño
SUMMARY:Fiestas de Villanueva de Argaño
URL;VALUE=URI:https://foroburgos.com/calendario/fiestas-de-villanueva-de-argano.696/
PARTICIPATION:NEEDS-ACTION
END:VEVENT
END:VCALENDAR