BEGIN:VCALENDAR
VERSION:2.0
PRODID:-//hacksw/handcal//NONSGML v1.0//EN
CALSCALE:GREGORIAN
BEGIN:VEVENT
UID:698
DTSTAMP:20260422T085410Z
DESCRIPTION:Fiestas de barrio
DTSTART;VALUE=DATE:20260422
LOCATION:Barrio de G3 Vista Alegre
SUMMARY:Fiestas en G3 Vista Alegre
URL;VALUE=URI:https://foroburgos.com/calendario/fiestas-en-g3-vista-alegre.698/
PARTICIPATION:NEEDS-ACTION
END:VEVENT
END:VCALENDAR