BEGIN:VCALENDAR
VERSION:2.0
PRODID:-//hacksw/handcal//NONSGML v1.0//EN
CALSCALE:GREGORIAN
BEGIN:VEVENT
UID:546
DTSTAMP:20260421T082746Z
DESCRIPTION:ACB
DTSTART:20260124T190000Z
DTEND:20260124T210000Z
LOCATION:Pavelló Barris Nord
SUMMARY:Força Lleida 73 - 72 San Pablo Burgos (17ª jornada)
URL;VALUE=URI:https://foroburgos.com/calendario/forca-lleida-73-72-san-pablo-burgos-17a-jornada.546/
PARTICIPATION:NEEDS-ACTION
END:VEVENT
END:VCALENDAR