BEGIN:VCALENDAR
VERSION:2.0
PRODID:-//hacksw/handcal//NONSGML v1.0//EN
CALSCALE:GREGORIAN
BEGIN:VEVENT
UID:543
DTSTAMP:20260421T082736Z
DESCRIPTION:ACB
DTSTART:20260103T180000Z
DTEND:20260103T190000Z
LOCATION:Palacio de Deportes
SUMMARY:Granada 90 - 107 San Pablo Burgos (14ª jornada)
URL;VALUE=URI:https://foroburgos.com/calendario/granada-90-107-san-pablo-burgos-14a-jornada.543/
PARTICIPATION:NEEDS-ACTION
END:VEVENT
END:VCALENDAR