BEGIN:VCALENDAR
VERSION:2.0
PRODID:-//hacksw/handcal//NONSGML v1.0//EN
CALSCALE:GREGORIAN
BEGIN:VEVENT
UID:309
DTSTAMP:20260421T082834Z
DESCRIPTION:Evento cultural
DTSTART;VALUE=DATE:20251107
LOCATION:Palacios de la Sierra
SUMMARY:II Ciclo Música Viva - Mämut Mæntra (Palacios de la Sierra)
URL;VALUE=URI:https://foroburgos.com/calendario/ii-ciclo-musica-viva-mamut-maentra-palacios-de-la-sierra.309/
PARTICIPATION:NEEDS-ACTION
END:VEVENT
END:VCALENDAR