BEGIN:VCALENDAR
VERSION:2.0
PRODID:-//hacksw/handcal//NONSGML v1.0//EN
CALSCALE:GREGORIAN
BEGIN:VEVENT
UID:681
DTSTAMP:20260422T090228Z
DESCRIPTION:[URL='https://capesmer.com']Web oficial[/URL]
DTSTART;VALUE=DATE:20260508
LOCATION:Villarcayo
SUMMARY:IV Feria de Caza\, Pesca\, Micología y Productos de las Merindades
URL;VALUE=URI:https://foroburgos.com/calendario/iv-feria-de-caza-pesca-micologia-y-productos-de-las-merindades.681/
PARTICIPATION:NEEDS-ACTION
END:VEVENT
END:VCALENDAR