BEGIN:VCALENDAR
VERSION:2.0
PRODID:-//hacksw/handcal//NONSGML v1.0//EN
CALSCALE:GREGORIAN
BEGIN:VEVENT
UID:683
DTSTAMP:20260422T085544Z
DESCRIPTION:[URL='https://www.afelin.com/jornada-empresarial-afelin-2026-burgos/'][B]Información[/B][/URL]
DTSTART;VALUE=DATE:20260520
LOCATION:Fórum Evolución Burgos
SUMMARY:Jornada Empresarial AFELÍN (Burgos)
URL;VALUE=URI:https://foroburgos.com/calendario/jornada-empresarial-afelin-burgos.683/
PARTICIPATION:NEEDS-ACTION
END:VEVENT
END:VCALENDAR