BEGIN:VCALENDAR
VERSION:2.0
PRODID:-//hacksw/handcal//NONSGML v1.0//EN
CALSCALE:GREGORIAN
BEGIN:VEVENT
UID:690
DTSTAMP:20260422T085854Z
DESCRIPTION:Gratis\, entrada libre. Conciertos del Día de Castilla y León 2026
DTSTART:20260422T190000Z
DTEND:20260422T210000Z
LOCATION:Plaza de Santa Teresa
SUMMARY:Lia Kali + The Soulutions (Burgos)
URL;VALUE=URI:https://foroburgos.com/calendario/lia-kali-the-soulutions-burgos.690/
PARTICIPATION:NEEDS-ACTION
END:VEVENT
END:VCALENDAR