BEGIN:VCALENDAR
VERSION:2.0
PRODID:-//hacksw/handcal//NONSGML v1.0//EN
CALSCALE:GREGORIAN
BEGIN:VEVENT
UID:552
DTSTAMP:20260421T085211Z
DESCRIPTION:LaLiga2
DTSTART:20260123T193000Z
DTEND:20260123T213000Z
LOCATION:Estadio La Rosaleda
SUMMARY:Málaga 3 - 0 Burgos CF (23ª jornada)
URL;VALUE=URI:https://foroburgos.com/calendario/malaga-3-0-burgos-cf-23a-jornada.552/
PARTICIPATION:NEEDS-ACTION
END:VEVENT
END:VCALENDAR