BEGIN:VCALENDAR
VERSION:2.0
PRODID:-//hacksw/handcal//NONSGML v1.0//EN
CALSCALE:GREGORIAN
BEGIN:VEVENT
UID:215
DTSTAMP:20260421T081449Z
DESCRIPTION:Circo
DTSTART:20250914T180000Z
DTEND:20250914T200000Z
LOCATION:Huerta de Rey
SUMMARY:Maña (Huerta de Rey)
URL;VALUE=URI:https://foroburgos.com/calendario/mana-huerta-de-rey.215/
PARTICIPATION:NEEDS-ACTION
END:VEVENT
END:VCALENDAR