BEGIN:VCALENDAR
VERSION:2.0
PRODID:-//hacksw/handcal//NONSGML v1.0//EN
CALSCALE:GREGORIAN
BEGIN:VEVENT
UID:689
DTSTAMP:20260422T090037Z
DESCRIPTION:ACB
DTSTART:20260426T150000Z
DTEND:20260426T170000Z
LOCATION:Pavelló Nou Congost
SUMMARY:Manresa - San Pablo Burgos (28ª jornada)
URL;VALUE=URI:https://foroburgos.com/calendario/manresa-san-pablo-burgos-28a-jornada.689/
PARTICIPATION:NEEDS-ACTION
END:VEVENT
END:VCALENDAR