BEGIN:VCALENDAR
VERSION:2.0
PRODID:-//hacksw/handcal//NONSGML v1.0//EN
CALSCALE:GREGORIAN
BEGIN:VEVENT
UID:691
DTSTAMP:20260422T084553Z
DESCRIPTION:Gratis\, entrada libre. Conciertos del Día de Castilla y León 2026
DTSTART:20260422T190000Z
DTEND:20260422T210000Z
LOCATION:Miranda de Ebro
SUMMARY:Medina Azahara (Miranda de Ebro)
URL;VALUE=URI:https://foroburgos.com/calendario/medina-azahara-miranda-de-ebro.691/
PARTICIPATION:NEEDS-ACTION
END:VEVENT
END:VCALENDAR