BEGIN:VCALENDAR
VERSION:2.0
PRODID:-//hacksw/handcal//NONSGML v1.0//EN
CALSCALE:GREGORIAN
BEGIN:VEVENT
UID:678
DTSTAMP:20260422T084553Z
DESCRIPTION:Manifestación cultural gratuita
DTSTART;VALUE=DATE:20260522
LOCATION:Burgos
SUMMARY:Noche Blanca (Burgos)
URL;VALUE=URI:https://foroburgos.com/calendario/noche-blanca-burgos.678/
PARTICIPATION:NEEDS-ACTION
END:VEVENT
END:VCALENDAR