BEGIN:VCALENDAR
VERSION:2.0
PRODID:-//hacksw/handcal//NONSGML v1.0//EN
CALSCALE:GREGORIAN
BEGIN:VEVENT
UID:692
DTSTAMP:20260422T084502Z
DESCRIPTION:Gratis\, entrada libre. Conciertos del Día de Castilla y León 2026
DTSTART:20260422T190000Z
DTEND:20260422T210000Z
LOCATION:Recinto Ferial Aranda de Duero
SUMMARY:Orquesta Panorama (Aranda de Duero)
URL;VALUE=URI:https://foroburgos.com/calendario/orquesta-panorama-aranda-de-duero.692/
PARTICIPATION:NEEDS-ACTION
END:VEVENT
END:VCALENDAR