BEGIN:VCALENDAR
VERSION:2.0
PRODID:-//hacksw/handcal//NONSGML v1.0//EN
CALSCALE:GREGORIAN
BEGIN:VEVENT
UID:268
DTSTAMP:20260423T081529Z
DESCRIPTION:Verbena Infantil-Familiar
DTSTART:20250920T060000Z
DTEND:20250920T100000Z
LOCATION:Berberana
SUMMARY:Partyman (Berberana)
URL;VALUE=URI:https://foroburgos.com/calendario/partyman-berberana.268/
PARTICIPATION:NEEDS-ACTION
END:VEVENT
END:VCALENDAR