BEGIN:VCALENDAR
VERSION:2.0
PRODID:-//hacksw/handcal//NONSGML v1.0//EN
CALSCALE:GREGORIAN
BEGIN:VEVENT
UID:682
DTSTAMP:20260422T084502Z
DESCRIPTION:[URL='https://web.fourvenues.com/es/perrealo-/events/perrealo--closing-party-burgos-30-04-2026-3V2T'][B]Entradas[/B][/URL]
DTSTART:20260429T223000Z
DTEND:20260430T043000Z
LOCATION:Sala Andén 56
SUMMARY:Perrealo - Closing Party (Burgos)
URL;VALUE=URI:https://foroburgos.com/calendario/perrealo-closing-party-burgos.682/
PARTICIPATION:NEEDS-ACTION
END:VEVENT
END:VCALENDAR