BEGIN:VCALENDAR
VERSION:2.0
PRODID:-//hacksw/handcal//NONSGML v1.0//EN
CALSCALE:GREGORIAN
BEGIN:VEVENT
UID:684
DTSTAMP:20260422T085445Z
DESCRIPTION:Premios
DTSTART;VALUE=DATE:20260520
LOCATION:Fórum Evolución Burgos
SUMMARY:Premios FAE de Oro (Burgos)
URL;VALUE=URI:https://foroburgos.com/calendario/premios-fae-de-oro-burgos.684/
PARTICIPATION:NEEDS-ACTION
END:VEVENT
END:VCALENDAR