BEGIN:VCALENDAR
VERSION:2.0
PRODID:-//hacksw/handcal//NONSGML v1.0//EN
CALSCALE:GREGORIAN
BEGIN:VEVENT
UID:139
DTSTAMP:20260420T081437Z
DESCRIPTION:Festival de música
DTSTART;VALUE=DATE:20250808
LOCATION:Santa Cruz de Juarros
SUMMARY:Rock & Juarros (Santa Cruz de Juarros)
URL;VALUE=URI:https://foroburgos.com/calendario/rock-juarros-santa-cruz-de-juarros.139/
PARTICIPATION:NEEDS-ACTION
END:VEVENT
END:VCALENDAR