BEGIN:VCALENDAR
VERSION:2.0
PRODID:-//hacksw/handcal//NONSGML v1.0//EN
CALSCALE:GREGORIAN
BEGIN:VEVENT
UID:545
DTSTAMP:20260421T082746Z
DESCRIPTION:ACB
DTSTART:20260118T110000Z
DTEND:20260118T130000Z
LOCATION:Coliseum Burgos
SUMMARY:San Pablo Burgos 79 - 80 Barcelona (16ª jornada)
URL;VALUE=URI:https://foroburgos.com/calendario/san-pablo-burgos-79-80-barcelona-16a-jornada.545/
PARTICIPATION:NEEDS-ACTION
END:VEVENT
END:VCALENDAR