BEGIN:VCALENDAR
VERSION:2.0
PRODID:-//hacksw/handcal//NONSGML v1.0//EN
CALSCALE:GREGORIAN
BEGIN:VEVENT
UID:202
DTSTAMP:20260421T082155Z
DESCRIPTION:LaLiga2
DTSTART:20250914T163000Z
DTEND:20250914T183000Z
LOCATION:Estadio El Molinón
SUMMARY:Sporting de Gijón 2 - 3 Burgos CF (5ª jornada)
URL;VALUE=URI:https://foroburgos.com/calendario/sporting-de-gijon-2-3-burgos-cf-5a-jornada.202/
PARTICIPATION:NEEDS-ACTION
END:VEVENT
END:VCALENDAR