BEGIN:VCALENDAR
VERSION:2.0
PRODID:-//hacksw/handcal//NONSGML v1.0//EN
CALSCALE:GREGORIAN
BEGIN:VEVENT
UID:499
DTSTAMP:20260421T082640Z
DESCRIPTION:Sala Amania
DTSTART:20251213T170000Z
DTEND:20251213T190000Z
LOCATION:Villasana de Mena
SUMMARY:Teatro y Coro Soledad Cero (Villasana de Mena)
URL;VALUE=URI:https://foroburgos.com/calendario/teatro-y-coro-soledad-cero-villasana-de-mena.499/
PARTICIPATION:NEEDS-ACTION
END:VEVENT
END:VCALENDAR