BEGIN:VCALENDAR
VERSION:2.0
PRODID:-//hacksw/handcal//NONSGML v1.0//EN
CALSCALE:GREGORIAN
BEGIN:VEVENT
UID:699
DTSTAMP:20260422T083346Z
DESCRIPTION:Festividad de las peñas del Burgos CF
DTSTART:20260425T090000Z
DTEND:20260425T160000Z
LOCATION:Estadio El Plantío
SUMMARY:V Día Blanquinegro
URL;VALUE=URI:https://foroburgos.com/calendario/v-dia-blanquinegro.699/
PARTICIPATION:NEEDS-ACTION
END:VEVENT
END:VCALENDAR