BEGIN:VCALENDAR
VERSION:2.0
PRODID:-//hacksw/handcal//NONSGML v1.0//EN
CALSCALE:GREGORIAN
BEGIN:VEVENT
UID:694
DTSTAMP:20260422T085254Z
DESCRIPTION:[URL='https://docs.google.com/forms/d/e/1FAIpQLSc2HR_1Cj6jKJlt8nFNj5nSiAGX7eIZ6sYbu-qs522DAHdH_A/viewform'][B]Inscripción[/B][/URL]
DTSTART;VALUE=DATE:20260424
LOCATION:Olmillos de Sasamón
SUMMARY:V Trial (Olmillos de Sasamón)
URL;VALUE=URI:https://foroburgos.com/calendario/v-trial-olmillos-de-sasamon.694/
PARTICIPATION:NEEDS-ACTION
END:VEVENT
END:VCALENDAR