BEGIN:VCALENDAR
VERSION:2.0
PRODID:-//hacksw/handcal//NONSGML v1.0//EN
CALSCALE:GREGORIAN
BEGIN:VEVENT
UID:695
DTSTAMP:20260422T085549Z
DESCRIPTION:Sesión doble 23 y 24 de mayo
DTSTART:20260523T110000Z
DTEND:20260523T120000Z
LOCATION:Golden Garden Burgos
SUMMARY:Vermú comedia - Laura del Val (Burgos)
URL;VALUE=URI:https://foroburgos.com/calendario/vermu-comedia-laura-del-val-burgos.695/
PARTICIPATION:NEEDS-ACTION
END:VEVENT
END:VCALENDAR