BEGIN:VCALENDAR
VERSION:2.0
PRODID:-//hacksw/handcal//NONSGML v1.0//EN
CALSCALE:GREGORIAN
BEGIN:VEVENT
UID:704
DTSTAMP:20260424T111941Z
DESCRIPTION:Ilusioñate
DTSTART;VALUE=DATE:20260423
LOCATION:Oña
SUMMARY:VIII Festival Internacional de Magia (Oña)
URL;VALUE=URI:https://foroburgos.com/calendario/viii-festival-internacional-de-magia-ona.704/
PARTICIPATION:NEEDS-ACTION
END:VEVENT
END:VCALENDAR