BEGIN:VCALENDAR
VERSION:2.0
PRODID:-//hacksw/handcal//NONSGML v1.0//EN
CALSCALE:GREGORIAN
BEGIN:VEVENT
UID:686
DTSTAMP:20260422T084442Z
DESCRIPTION:[URL='https://astichallenge.com/asti-robotics-challenge-x/'][B]Información[/B][/URL]
DTSTART;VALUE=DATE:20260529
LOCATION:Fórum Evolución Burgos
SUMMARY:X Asti Robotics Challenge (Burgos)
URL;VALUE=URI:https://foroburgos.com/calendario/x-asti-robotics-challenge-burgos.686/
PARTICIPATION:NEEDS-ACTION
END:VEVENT
END:VCALENDAR