BEGIN:VCALENDAR
VERSION:2.0
PRODID:-//hacksw/handcal//NONSGML v1.0//EN
CALSCALE:GREGORIAN
BEGIN:VEVENT
UID:348
DTSTAMP:20260419T125451Z
DESCRIPTION:BTT Familiar & Marcha
DTSTART;VALUE=DATE:20251003
LOCATION:Quintanadueñas
SUMMARY:XI Marcha Solidaria Alfoz de Quintanadueñas
URL;VALUE=URI:https://foroburgos.com/calendario/xi-marcha-solidaria-alfoz-de-quintanaduenas.348/
PARTICIPATION:NEEDS-ACTION
END:VEVENT
END:VCALENDAR