BEGIN:VCALENDAR
VERSION:2.0
PRODID:-//hacksw/handcal//NONSGML v1.0//EN
CALSCALE:GREGORIAN
BEGIN:VEVENT
UID:685
DTSTAMP:20260422T090032Z
DESCRIPTION:[URL='https://www.ubu.es/ubuempleo/empleo/foros-de-empleo/xxiv-feria-de-empleo-2026'][B]Información[/B][/URL]

Acceso libre
DTSTART:20260513T073000Z
DTEND:20260513T160000Z
LOCATION:Fórum Evolución Burgos
SUMMARY:XXIV Feria de Empleo UBU (Burgos)
URL;VALUE=URI:https://foroburgos.com/calendario/xxiv-feria-de-empleo-ubu-burgos.685/
PARTICIPATION:NEEDS-ACTION
END:VEVENT
END:VCALENDAR