BEGIN:VCALENDAR
VERSION:2.0
PRODID:-//hacksw/handcal//NONSGML v1.0//EN
CALSCALE:GREGORIAN
BEGIN:VEVENT
UID:384
DTSTAMP:20260421T082834Z
DESCRIPTION:Evento cultural
DTSTART:20251011T093000Z
DTEND:20251011T215900Z
LOCATION:Fresno de Río Tirón
SUMMARY:XXV Feria de Artesanía (Fresno de Río Tirón)
URL;VALUE=URI:https://foroburgos.com/calendario/xxv-feria-de-artesania-fresno-de-rio-tiron.384/
PARTICIPATION:NEEDS-ACTION
END:VEVENT
END:VCALENDAR